BEGIN:VCALENDAR
VERSION:2.0
PRODID:-//Urholz - Möbel aus heimischen Edelhölzern - ECPv6.0.6.2//NONSGML v1.0//EN
CALSCALE:GREGORIAN
METHOD:PUBLISH
X-ORIGINAL-URL:https://www.urholz.de
X-WR-CALDESC:Veranstaltungen für Urholz - Möbel aus heimischen Edelhölzern
REFRESH-INTERVAL;VALUE=DURATION:PT1H
X-Robots-Tag:noindex
X-PUBLISHED-TTL:PT1H
BEGIN:VTIMEZONE
TZID:Europe/Berlin
BEGIN:DAYLIGHT
TZOFFSETFROM:+0100
TZOFFSETTO:+0200
TZNAME:CEST
DTSTART:20230326T010000
END:DAYLIGHT
BEGIN:STANDARD
TZOFFSETFROM:+0200
TZOFFSETTO:+0100
TZNAME:CET
DTSTART:20231029T010000
END:STANDARD
BEGIN:DAYLIGHT
TZOFFSETFROM:+0100
TZOFFSETTO:+0200
TZNAME:CEST
DTSTART:20240331T010000
END:DAYLIGHT
BEGIN:STANDARD
TZOFFSETFROM:+0200
TZOFFSETTO:+0100
TZNAME:CET
DTSTART:20241027T010000
END:STANDARD
BEGIN:DAYLIGHT
TZOFFSETFROM:+0100
TZOFFSETTO:+0200
TZNAME:CEST
DTSTART:20250330T010000
END:DAYLIGHT
BEGIN:STANDARD
TZOFFSETFROM:+0200
TZOFFSETTO:+0100
TZNAME:CET
DTSTART:20251026T010000
END:STANDARD
BEGIN:DAYLIGHT
TZOFFSETFROM:+0100
TZOFFSETTO:+0200
TZNAME:CEST
DTSTART:20260329T010000
END:DAYLIGHT
BEGIN:STANDARD
TZOFFSETFROM:+0200
TZOFFSETTO:+0100
TZNAME:CET
DTSTART:20261025T010000
END:STANDARD
END:VTIMEZONE
BEGIN:VEVENT
DTSTART;VALUE=DATE:20260412
DTEND;VALUE=DATE:20260413
DTSTAMP:20260421T123456
CREATED:20230513T081115Z
LAST-MODIFIED:20260207T090132Z
UID:2470-1775952000-1776038399@www.urholz.de
SUMMARY:Naturparkmarkt Vaihingen/Enz
DESCRIPTION:https://www.naturpark-stromberg-heuchelberg.de/geniessen/naturparkmaerkte
URL:https://www.urholz.de/ausstellung/naturparkmarkt-vaihingen-enz/
ATTACH;FMTTYPE=image/png:https://www.urholz.de/wp-content/uploads/2023/05/Bildschirmfoto-2023-05-13-um-10.12.54.png
END:VEVENT
BEGIN:VEVENT
DTSTART;TZID=Europe/Berlin:20260411T100000
DTEND;TZID=Europe/Berlin:20260411T180000
DTSTAMP:20260421T123456
CREATED:20260325T105456Z
LAST-MODIFIED:20260325T105456Z
UID:2752-1775901600-1775930400@www.urholz.de
SUMMARY:Schauwerkstatt Europäische Tage des Kunsthandwerks
DESCRIPTION:Wir öffnen unsere Türen im Rahmen der Europäischen Tage des Kunsthandwerks. Wir freuen uns auf Sie! \nhttps://kunsthandwerkstage.de/teilnehmer/urholz
URL:https://www.urholz.de/ausstellung/schauwerkstatt-europaeische-tage-des-kunsthandwerks/
ATTACH;FMTTYPE=image/jpeg:https://www.urholz.de/wp-content/uploads/2022/02/Werbefotos-010.jpg
END:VEVENT
BEGIN:VEVENT
DTSTART;VALUE=DATE:20260404
DTEND;VALUE=DATE:20260407
DTSTAMP:20260421T123456
CREATED:20260325T105050Z
LAST-MODIFIED:20260325T105953Z
UID:2749-1775260800-1775519999@www.urholz.de
SUMMARY:Lebendiges Kunsthandwerk Maulbronn
DESCRIPTION:http://www.lebendiges-kunsthandwerk.de/ \nSamstag 13:00-18:00 \nSonntag und Montag 11:00-18:00
URL:https://www.urholz.de/ausstellung/lebendiges-kunsthandwerk-maulbronn/
END:VEVENT
BEGIN:VEVENT
DTSTART;VALUE=DATE:20260327
DTEND;VALUE=DATE:20260329
DTSTAMP:20260421T123456
CREATED:20260325T104525Z
LAST-MODIFIED:20260325T105900Z
UID:2747-1774569600-1774742399@www.urholz.de
SUMMARY:Panorama Weingut Baumgärtner - Frühjahrsmesse
DESCRIPTION:https://panoramaweingut.de/versanstaltung/fruehjahrsmesse-3/ \nFreitag 15-21 Uhr\, \nSamstag 12-19 Uhr
URL:https://www.urholz.de/ausstellung/panorama-weingut-baumgaertner-fruehjahrsmesse/
ATTACH;FMTTYPE=image/png:https://www.urholz.de/wp-content/uploads/2026/03/Bildschirmfoto-2026-03-25-um-11.57.21.png
END:VEVENT
BEGIN:VEVENT
DTSTART;TZID=Europe/Berlin:20260312T080000
DTEND;TZID=Europe/Berlin:20260320T170000
DTSTAMP:20260421T123456
CREATED:20260207T095939Z
LAST-MODIFIED:20260207T100155Z
UID:2718-1773302400-1774026000@www.urholz.de
SUMMARY:Frühlingsfest 2026 - Kultur in der Werkstatt
DESCRIPTION:Das Jahr ist vergangen. Es gab viel Schönes zu entdecken und zu erleben. Mit Offenheit\, Dankbarkeit und Lebensfreude lebt es sich leichter\, viele Nachrichten sind im Grunde bedeutungslos. Was bleibt\, ist das Wachstum in der Natur\, die Entwicklung der Kinder und die Gelassenheit des Älterwerdens. Im diesem Jahr wird unsere kleine Firma Urholz schon 47 Jahre alt. \nZu diesem Anlass haben wir in ein tolles Programm zusammengestellt. \nTagsüber ist ab 10 Uhr unsere Ausstellung „Die Schönheit von Holz“ geöffnet.\nBei allen Konzerten verwöhnen wir Euch ab 18 Uhr mit kleinen Köstlichkeiten. \nKultur in der Werkstatt\n\n\n\n\n\n\nDonnerstag\, 12.03.      ab 18:00 Uhr \n\nZum Auftakt findet wieder unser traditioneller Waldabend statt. Hierzu sind alle Förster\, Waldliebhaber und  Baumfreunde herzlich eingeladen.\nDurch den Abend wird uns Jule Bauer mit Ihrem Trio „Les Sylvains – Die Waldgeister“ begleiten. Lieder über den Wald\, Schönheit und Liebe werden durch ihre musikalische Genialität zum Leben erweckt. Gespielt wird auf Instrumenten aus Elsbeere und Speierling\, diese allein sind schon Leckerbissen\, mit u.a. Schlüsselfidel\, Laute\, Theorbe und Harfe.\n\nFreitag\, 13.03.       14:00  \n\nExkursion: Waldumbau im Stadtwald Östringen: Klimalust oder Klimafrust? Der Förster Jochen Kaiser zeigt an anschaulichen Waldorten die Auswirkungen des Klimawandels auf den Tiefenbacher Wald und die vom Waldbesitzer erfolgten Massnahmen hin zu einem klimastabilen baumartenreichen Mischwald mit Elsbeere\, Speierling\, Wildobst\, Eibe…..\nTreffpunkt: Kreuzbergkapelle Tiefenbach (Östringen)\, 14:00\n\nFreitag\, 13.03.          19:30  \n\nEvelyn Huber ist mit ihrer großen goldenen Konzertharfe wieder bei uns zu Gast. Sie verzaubert mit großer Magie der Töne und verwebt kleine\, leise Melodien zu gewaltigen Klangexplosionen. Sie hat ihr Programm „Warum haben Sie nicht Blockflöte gelernt“ – Vielsaitiges Harfen-Kabarett mit Groove & Lachgarantie für uns mitgebracht.\nevelynhuber.de\n\nSamstag\, 14.03.           14:00 \n\nAlle Kinder und Junggebliebenen können gemeinsam mit Evelyn Huber die Harfe entdecken. Evelyn ist Professorin und unterrichtet Harfe. Es gelingt ihr auf zauberhafte Weise\, Klein und Groß für dieses Instrument zu begeistern und die Phantasie zu erwecken.\nevelynhuber.de/de/kinderprogramm/\n\nSamstag\, 14.03.           19:30 \n\nFriederike Ziegler (Gitarre\, Cello) und Hermann Köster (Gitarre\, Gesang) waren schon öfters bei uns zu Gast und haben mit ihrem irischen Abend alle Gäste in ihren Bann gezogen. Wir freuen uns\, dass sie auch dieses Jahr wieder dabei sind mit ihrem neuen Programm über Bäume.\n\nFreitag\, 20.03.             19:30 \n\nBerta Epple ist da – sie sind nicht nur schwäbische Kultband. Mit Witz und viel Humor präsentieren sie uns durch ihre geniale Musikalität zahlreiche Facetten unseres liebenswürdigen Ländchens.\nbertaepple.de
URL:https://www.urholz.de/ausstellung/fruehlingsfest-2026-kultur-in-der-werkstatt/
ATTACH;FMTTYPE=image/png:https://www.urholz.de/wp-content/uploads/2026/02/Screenshot_20260207_105840.png
END:VEVENT
BEGIN:VEVENT
DTSTART;VALUE=DATE:20250726
DTEND;VALUE=DATE:20250728
DTSTAMP:20260421T123456
CREATED:20230513T084248Z
LAST-MODIFIED:20250514T183505Z
UID:2484-1753488000-1753660799@www.urholz.de
SUMMARY:Promenadenfest in Überlingen
DESCRIPTION:In wunderschöner Atmosphäre findet im Kurpark in Überlingen direkt am Bodensee das Promenadenfest statt. \nhttps://www.ueberlingen-bodensee.de/promenadenfest \nWir freuen uns auf Ihren Besuch! \n 
URL:https://www.urholz.de/ausstellung/promenadenfest-in-ueberlingen/
LOCATION:Promenadenfest Überlingen\, Überlingen am Bodensee\, 88662\, Deutschland
ATTACH;FMTTYPE=image/png:https://www.urholz.de/wp-content/uploads/2023/05/Screenshot_20230522_220305.png
END:VEVENT
BEGIN:VEVENT
DTSTART;VALUE=DATE:20250601
DTEND;VALUE=DATE:20250602
DTSTAMP:20260421T123456
CREATED:20250202T191135Z
LAST-MODIFIED:20250202T191135Z
UID:2647-1748736000-1748822399@www.urholz.de
SUMMARY:Naturparkmarkt Oberderdingen
DESCRIPTION:https://www.naturpark-stromberg-heuchelberg.de/geniessen/naturparkmaerkte
URL:https://www.urholz.de/ausstellung/naturparkmarkt-oberderdingen/
END:VEVENT
BEGIN:VEVENT
DTSTART;TZID=Europe/Berlin:20250531T100000
DTEND;TZID=Europe/Berlin:20250531T180000
DTSTAMP:20260421T123456
CREATED:20250514T183935Z
LAST-MODIFIED:20250514T184150Z
UID:2684-1748685600-1748714400@www.urholz.de
SUMMARY:Wunderwelt des Holzes - Ausstellung in unserer Werkstatt
DESCRIPTION:Ausstellung „Wunderwelt des Holzes“ in unserer Werkstatt \n 
URL:https://www.urholz.de/ausstellung/ausstellung-in-unserer-werkstatt/
ATTACH;FMTTYPE=image/jpeg:https://www.urholz.de/wp-content/uploads/2021/09/urholz_werkstatt_1520-scaled.jpg
END:VEVENT
BEGIN:VEVENT
DTSTART;TZID=Europe/Berlin:20250530T200000
DTEND;TZID=Europe/Berlin:20250530T200000
DTSTAMP:20260421T123456
CREATED:20230522T193940Z
LAST-MODIFIED:20250514T152304Z
UID:2495-1748635200-1748635200@www.urholz.de
SUMMARY:Sirius-Quartet und Evelyn Huber
DESCRIPTION:Wir eröffnen die Bühne und räumen die Werkstatt auf !\nAm 30. Mai wird Urholz zum Gastgeber für die Weltklassemusiker von Sirius Quartet und Evelyn Huber.\nEinlass ab 18 Uhr mit einem kleinen Buffet und erlesenen Getränken. Konzertbeginn um 20:00. \nEintritt ist frei\, es wird um großzügige Spenden gebeten. \nDie Veranstaltung findet in Kooperation mit dem Waldnetzwerk statt. \nAm Samstag\, 31.Mai Ausstellung „Wunderwelt des Holzes“ von 10 bis 18 Uhr \nWir freuen uns auf Euch! \n 
URL:https://www.urholz.de/ausstellung/sirius-quartet/
LOCATION:Werkstatt Urholz\, Tullastraße 30\, Eppingen\, Baden-Württemberg\, 75031\, Deutschland
ATTACH;FMTTYPE=image/jpeg:https://www.urholz.de/wp-content/uploads/2025/02/evelyn-huber-pressefoto-evelynhuber-sirius-1.jpg
ORGANIZER;CN="Urholz":MAILTO:info@urholz.de
END:VEVENT
BEGIN:VEVENT
DTSTART;TZID=Europe/Berlin:20250517T080000
DTEND;TZID=Europe/Berlin:20250518T170000
DTSTAMP:20260421T123456
CREATED:20250202T190955Z
LAST-MODIFIED:20250514T130123Z
UID:2644-1747468800-1747587600@www.urholz.de
SUMMARY:Garten- und Blumentage mit Kunsthandwerker-markt im Kurpark Tegernsee
DESCRIPTION:https://alpenrand-magazin.de/garten-und-blumentage-tegernsee-2024/#:~:text=Region%20Bayern%20%E2%80%93%20Die%20%E2%80%9EGarten\,f%C3%BCr%20Haus%2C%20Balkon%20und%20Garten.
URL:https://www.urholz.de/ausstellung/garten-und-blumentage-mit-kunsthandwerkermarkt-im-kurpark-tegernsee/
ATTACH;FMTTYPE=image/png:https://www.urholz.de/wp-content/uploads/2025/02/tegernsee.png
END:VEVENT
BEGIN:VEVENT
DTSTART;VALUE=DATE:20250501
DTEND;VALUE=DATE:20250502
DTSTAMP:20260421T123456
CREATED:20250202T192656Z
LAST-MODIFIED:20250202T192656Z
UID:2663-1746057600-1746143999@www.urholz.de
SUMMARY:Wachholdermarkt Münsingen
DESCRIPTION:Wachholdermarkt Münsingen
URL:https://www.urholz.de/ausstellung/wachholdermarkt-muensingen/
ATTACH;FMTTYPE=image/jpeg:https://www.urholz.de/wp-content/uploads/2025/02/unnamed.jpg
END:VEVENT
BEGIN:VEVENT
DTSTART;VALUE=DATE:20250313
DTEND;VALUE=DATE:20250316
DTSTAMP:20260421T123456
CREATED:20250121T150803Z
LAST-MODIFIED:20250121T150803Z
UID:2638-1741824000-1742083199@www.urholz.de
SUMMARY:Frühlingsfest 2025
DESCRIPTION:Wir laden Sie herzlich zu unserem Frühlingsfest ein!\nErleben Sie die Wunderwelt des Holzes in einer einzigartigen Ausstellung mit Verkauf: \nFreitag & Samstag\, ab 11:00 Uhr: Ausstellung und Verkauf\nAb 18:00 Uhr: Genießen Sie kleine kulinarische Spezialitäten und lassen Sie den Abend ausklingen.\nAbends: Freuen Sie sich auf ein stimmungsvolles Konzertprogramm.\nWir freuen uns auf Ihren Besuch! 🌸 \n_______________________________________________________________ \nDonnerstag\, 13. März 19:30             \n“Die Inspiration der Bäume”\nEin Konzert über Freundschaft\, Natur und musikalische Abenteuer\n\nJule Bauer – Gesang\, Nyckelharpa\, Gitarre\nLaura Jörres – Geige\, Nyckelharpa\, Gitarre \nDie beiden Musikerinnen\, die sich sowohl in der Alten Musik als auch im Folk\, Jazz und der Weltmusik heimisch fühlen\, spannen den musikalischen Bogen von der Musik Hildegards von Bingen über John Dowland\, J. S. Bach bis in die Moderne zu George Gershwin und den Beatles. Mit dem seltenen Instrument Nyckelharpa\, das aus dem Mittelalter stammt und heute vielseitig in unterschiedlichen Musikstilen genutzt wird\, schaffen sie eine faszinierende Verbindung von Tradition und Moderne. \n_______________________________________________________________ \nFreitag\, 14. März 19:30 Uhr                  \n“Natur trifft Poesie“\nKlangerlebnis in lyrischen Welten \nLinda Trillhase –  Geige\, Akkordeon\nBobby Fischer – Keyboard\, Schlagzeug \nLinda und Bobby vereinen ihre Talente als vielseitige Musiker\, Komponisten und Klangkünstler. Mit Leidenschaft und Virtuosität schaffen sie ein einzigartiges musikalisches Erlebnis\, das Natur und Poesie auf eindrucksvolle Weise verbindet. \n_______________________________________________________________ \nSamstag\, 15. März 19:30 Uhr                 \n“Irland erzählt”\nEine Ode an die magische Welt der Smaragdinsel.   \nFriederike Ziegler –  Gitarre\, Celle\nHermann Köster –  Gitarre\, Gesang \nHermann Köster und Friederike Ziegler bringen die irische Seele dieses Jahr wieder in die Urholz-Werkstatt. Ein Abend für alle Sinne mit Liedern\, Melodien\, Texten und Bildern. \n  \n 
URL:https://www.urholz.de/ausstellung/fruehlingsfest-2025/
LOCATION:Werkstatt Urholz\, Tullastraße 30\, Eppingen\, Baden-Württemberg\, 75031\, Deutschland
ATTACH;FMTTYPE=image/jpeg:https://www.urholz.de/wp-content/uploads/2020/01/20090413_09_blüte-scaled.jpg
END:VEVENT
BEGIN:VEVENT
DTSTART;TZID=Europe/Berlin:20241020T150000
DTEND;TZID=Europe/Berlin:20241020T190000
DTSTAMP:20260421T123456
CREATED:20241002T104159Z
LAST-MODIFIED:20241002T104308Z
UID:2632-1729436400-1729450800@www.urholz.de
SUMMARY:Umwelttag Pfedelbach
DESCRIPTION:Weitere Infos hier: pfedelbach-flyer-def-netz-3
URL:https://www.urholz.de/ausstellung/umwelttag-pfedelbach/
ATTACH;FMTTYPE=image/png:https://www.urholz.de/wp-content/uploads/2024/10/pfedelbach.png
END:VEVENT
BEGIN:VEVENT
DTSTART;TZID=Europe/Berlin:20241018T160000
DTEND;TZID=Europe/Berlin:20241018T200000
DTSTAMP:20260421T123456
CREATED:20241002T102331Z
LAST-MODIFIED:20241002T131033Z
UID:2630-1729267200-1729281600@www.urholz.de
SUMMARY:GenussScheune Kleingartach
DESCRIPTION:Für weitere Infos hier klicken
URL:https://www.urholz.de/ausstellung/genussscheune-kleingartach/
ATTACH;FMTTYPE=image/png:https://www.urholz.de/wp-content/uploads/2024/10/genusscheunekleingartach.png
END:VEVENT
BEGIN:VEVENT
DTSTART;TZID=Europe/Berlin:20241012T190000
DTEND;TZID=Europe/Berlin:20241012T220000
DTSTAMP:20260421T123456
CREATED:20241002T100320Z
LAST-MODIFIED:20241002T100320Z
UID:2614-1728759600-1728770400@www.urholz.de
SUMMARY:Jubiläum - Mehlbeere Live II
DESCRIPTION:Unser kleines Jubiläum wollen wir Anfang Oktober gemeinsam mit Ihnen feiern ! Das Finale unseres Jubiläums beginnt um 19 Uhr mit Mehlbeere live.  Wir laden Sie herzlich dazu ein und freuen uns über viele Holz- und Musikbegeisterte – bitte weitersagen. \n \n 
URL:https://www.urholz.de/ausstellung/jubilaeum-mehlbeere-live-ii/
ATTACH;FMTTYPE=image/png:https://www.urholz.de/wp-content/uploads/2024/10/trillhase.png
END:VEVENT
BEGIN:VEVENT
DTSTART;TZID=Europe/Berlin:20241011T193000
DTEND;TZID=Europe/Berlin:20241011T220000
DTSTAMP:20260421T123456
CREATED:20241002T092506Z
LAST-MODIFIED:20241002T131136Z
UID:2608-1728675000-1728684000@www.urholz.de
SUMMARY:Jubiläum - Film vom orangeroten Heufalter
DESCRIPTION:Die Geschichte vom Orangeroten Heufalter\nFr\, 11. Oktober\n19:30 Uhr \nFilm in der Werkstatt – die Schreinerwerkstatt wird zum Kino. Mit Filmemacher Jan Haft geht es auf eine Reise…\nEinst war der Orangerote Heufalter\, ein wunderschöner Schmetterling\, auch Regensburger Gelbling genannt\, weit über Europa verbreitet – auch in Deutschland. Heute ist die Art bei uns nicht mehr zu finden und europaweit vom Aussterben bedroht. Jan Haft war mit seinem Team auf der Suche nach dem Schmetterling und hat ihn letztlich in Rumänien inmitten eines bunt blühenden Biotopkomplex gefunden. Warum kann er dort gut leben? Eine mitreißende Doku für alle\, die mehr über wichtige Zusammenhänge und die Wunder der Natur erfahren möchten. \nLeitung: WaldNetzWerk\nKosten: kostenfrei\, Spenden erbeten\nOrt: Eppingen\, Schreinerei Urholz\nAnmeldung ist nicht erforderlich
URL:https://www.urholz.de/ausstellung/herbstfest-filmauffuehrung/
ATTACH;FMTTYPE=image/jpeg:https://www.urholz.de/wp-content/uploads/2024/10/heufalter-e1727874686496.jpg
END:VEVENT
BEGIN:VEVENT
DTSTART;TZID=Europe/Berlin:20241011T100000
DTEND;TZID=Europe/Berlin:20241012T220000
DTSTAMP:20260421T123456
CREATED:20230618T143757Z
LAST-MODIFIED:20241002T101427Z
UID:2534-1728640800-1728770400@www.urholz.de
SUMMARY:Jubiläum - Ausstellung und Sonderverkauf
DESCRIPTION:Unser kleines Jubiläum wollen wir Anfang Oktober gemeinsam mit Ihnen feiern !\nAm 11. und 12. Oktober von 10-18 Uhr gibt es eine Austellung „Die Schönheit von Holz“ und einen Sonderverkauf \nAußerdem folgendes Programm\n11. Oktober 19:30:  Filmaufführung „Geschichte vom orangeroten Heufalter“ in Zusammenarbeit mit dem Waldnetzwerk.\n12. Oktober\,  ab 14 Uhr: Führung durch die Werkstatt mit kleinen Geschichten zu besonderen Hölzern.\n12.Oktober\, 19:00 Konzert „Mehlbeere Live II“ \nWeiter Informationen hier: Flyer zum Jubiläum
URL:https://www.urholz.de/ausstellung/herbstfest/
LOCATION:Werkstatt Urholz\, Tullastraße 30\, Eppingen\, Baden-Württemberg\, 75031\, Deutschland
ATTACH;FMTTYPE=image/jpeg:https://www.urholz.de/wp-content/uploads/2021/09/urholz_werkstatt_1520-scaled.jpg
END:VEVENT
BEGIN:VEVENT
DTSTART;TZID=Europe/Berlin:20240621T000000
DTEND;TZID=Europe/Berlin:20240623T000000
DTSTAMP:20260421T123457
CREATED:20230513T083104Z
LAST-MODIFIED:20240509T100526Z
UID:2478-1718928000-1719100800@www.urholz.de
SUMMARY:Parkträume Stocksberg
DESCRIPTION:Vom 21.06. bis 23.06. finden im exklusiven Schloss Stocksberg zum zweiten Mal die „Parkträume“ statt. \nEine außergewöhnliche Ausstellung mit erlesenen Kostbarkeiten! \nSie sind herzlichst eingeladen!
URL:https://www.urholz.de/ausstellung/parktraeume-stocksberg/
LOCATION:Schloss Stocksberg\, Stocksbergstraße 2/1\, Brackenheim\, 74336
ATTACH;FMTTYPE=image/jpeg:https://www.urholz.de/wp-content/uploads/2021/06/RIMG0442.jpg
ORGANIZER;CN="Park%20Tr%C3%A4ume":MAILTO:info@schloss-stocksberg.de
END:VEVENT
BEGIN:VEVENT
DTSTART;VALUE=DATE:20240615
DTEND;VALUE=DATE:20240617
DTSTAMP:20260421T123457
CREATED:20230513T081847Z
LAST-MODIFIED:20240509T100504Z
UID:2473-1718409600-1718582399@www.urholz.de
SUMMARY:Kunsthandwerker-markt Eppingen
DESCRIPTION:Der Verein Artificium veranstaltet wieder einen Kunsthandwerkermarkt in Eppingen. \nWir freuen uns mit einem Stand dabei sein zu dürfen!
URL:https://www.urholz.de/ausstellung/kunsthandwerkermarkt-eppingen/
LOCATION:Eppingen Stadtmitte\, Stadtmitte\, Eppingen\, 75031\, Deutschland
ATTACH;FMTTYPE=image/png:https://www.urholz.de/wp-content/uploads/2023/05/Bildschirmfoto-2023-05-13-um-10.18.24.png
END:VEVENT
BEGIN:VEVENT
DTSTART;VALUE=DATE:20240518
DTEND;VALUE=DATE:20240521
DTSTAMP:20260421T123457
CREATED:20230522T200027Z
LAST-MODIFIED:20240509T095123Z
UID:2512-1715990400-1716249599@www.urholz.de
SUMMARY:Pfingstmarkt Angelbachtal
DESCRIPTION:Im wunderschönen Schlosspark in Angelbachtal mit schönen alten Bäumen sind wir dieses Jahr als Aussteller mit dabei. \nWir freuen uns auf Ihren Besuch! \n 
URL:https://www.urholz.de/ausstellung/pfingstmarkt-angelbachtal/
ATTACH;FMTTYPE=image/jpeg:https://www.urholz.de/wp-content/uploads/2023/05/angelbachtal.jpg
END:VEVENT
BEGIN:VEVENT
DTSTART;VALUE=DATE:20240518
DTEND;VALUE=DATE:20240521
DTSTAMP:20260421T123457
CREATED:20220210T142711Z
LAST-MODIFIED:20240509T095032Z
UID:2336-1715990400-1716249599@www.urholz.de
SUMMARY:41. Norddeutscher Kunsthand-werkermarkt in Süder-schmedeby 2024
DESCRIPTION:Wie jedes Jahr sind wir wieder beim Kunsthandwerkermarkt in Süderschmedeby dabei und laden Sie herzlich dazu ein uns einen Besuch abzustatten ! \nUnsere Lieblings-Ausstellung! \nWir freuen uns auf Euch!
URL:https://www.urholz.de/ausstellung/39-norddeutscher-kunsthandwerkermarkt-in-suederschmedeby-2022/
LOCATION:Süderschmedeby\, 24885
ATTACH;FMTTYPE=image/jpeg:https://www.urholz.de/wp-content/uploads/2022/02/slider4-1.jpg
END:VEVENT
BEGIN:VEVENT
DTSTART;TZID=Europe/Berlin:20240406T190000
DTEND;TZID=Europe/Berlin:20240406T220000
DTSTAMP:20260421T123457
CREATED:20240404T203841Z
LAST-MODIFIED:20240404T203925Z
UID:2564-1712430000-1712440800@www.urholz.de
SUMMARY:Die irischen Elfenmärchen
DESCRIPTION:Am Samstag Abend\, 6. April ab 19 Uhr verzaubern uns wieder die Kilians mit einem spannenden\, klangvollen Programm: \nZauberhafte Märchen mit zauberhafter Musik \nDie „Irischen Elfenmärchen“ in der Übertragung der Brüder Grimm sind nur Wenigen bekannt. Silke und Dirk Kilian (Joyosa und The Joyful Kilians) lesen aus dieser Sammlung Geschichten aus einer Anderswelt und lassen auf Harfe und Rahmentrommel keltische Musik erklingen. \nEin herzerwärmendes Programm mit nachdenklichen und humorvollen Geschichten. \nEinen kleinen Vorgeschmack gibt es hier. \nEintritt frei\, um Spenden wir gebeten. \n 
URL:https://www.urholz.de/ausstellung/die-irischen-elfenmaerchen/
ATTACH;FMTTYPE=image/jpeg:https://www.urholz.de/wp-content/uploads/2024/04/Keltisch-2-scaled.jpg
END:VEVENT
BEGIN:VEVENT
DTSTART;VALUE=DATE:20240405
DTEND;VALUE=DATE:20240408
DTSTAMP:20260421T123457
CREATED:20240404T203438Z
LAST-MODIFIED:20240404T203438Z
UID:2561-1712275200-1712534399@www.urholz.de
SUMMARY:Europäische Tage des Kunsthandwerks
DESCRIPTION:Wir sind wieder dabei! Vom 5. – 7. April haben wir unsere Werksatt für alle geöffnet. Kommen Sie vorbei und erleben Sie die Wunderwelt des Holzes hautnah. \n 
URL:https://www.urholz.de/ausstellung/europaeische-tage-des-kunsthandwerks-2/
LOCATION:Werkstatt Urholz\, Tullastraße 30\, Eppingen\, Baden-Württemberg\, 75031\, Deutschland
ATTACH;FMTTYPE=image/png:https://www.urholz.de/wp-content/uploads/2024/04/image024548.png
END:VEVENT
BEGIN:VEVENT
DTSTART;TZID=Europe/Berlin:20240316T190000
DTEND;TZID=Europe/Berlin:20240316T220000
DTSTAMP:20260421T123457
CREATED:20240227T092119Z
LAST-MODIFIED:20240227T092119Z
UID:2556-1710615600-1710626400@www.urholz.de
SUMMARY:"Ode an die Natur Irlands" - Frühlingsfest Programm
DESCRIPTION:Klanggenuss: Ode an die Natur Irlands\nSamstag\, 16. März 19:00 Uhr\nDie Urholz-Werkstatt ist  wieder bereit für tolle Musiker und einzigartigen Klanggenuss.\nHeute sind Friederike Ziegler und Hermann Köster auf der Bühne und präsentieren authentische Musik aus Irland.\nEs erwartet Euch ein reiches Programm durch die musikalische und poetische Schönheit der\nSmaragd-Insel. \nMay the irish hills caress you\nMay her lakes and rivers bless you\nMay the luck of the Irish enfold you\nMay blessings be poured out upon you  (William Butler Yeats)
URL:https://www.urholz.de/ausstellung/ode-an-die-natur-irlands-fruehlingsfest-programm/
LOCATION:Werkstatt Urholz\, Tullastraße 30\, Eppingen\, Baden-Württemberg\, 75031\, Deutschland
ATTACH;FMTTYPE=image/jpeg:https://www.urholz.de/wp-content/uploads/2024/02/Irish_2024-01-24_12-57-05.jpg
ORGANIZER;CN="Urholz":MAILTO:info@urholz.de
END:VEVENT
BEGIN:VEVENT
DTSTART;TZID=Europe/Berlin:20240315T190000
DTEND;TZID=Europe/Berlin:20240315T220000
DTSTAMP:20260421T123457
CREATED:20240227T091626Z
LAST-MODIFIED:20240227T091626Z
UID:2552-1710529200-1710540000@www.urholz.de
SUMMARY:„un milagro“ - Frühlingsfest Programm
DESCRIPTION:JOYOSA – „un milagro“ – ein Wunder\nFreitag\, 15. März 19:00 Uhr\nDie Schreinerwerkstatt wird zum Kulturort – Instrumente aus Mehlbeer-\, Elsbeer- und Speierlingholz\nbekommen ihre Bühne. Das Duo JOYOSA hat sich der Musik des mittelalterlichen Spaniens verschrieben.\nSilke und Dirk Kilian spielen Lieder und Melodien aus den Cantigas de Santa Maria\n(13. Jhdt.)\, dem Llibre vermell (14. Jhdt.)\, sephardische Romanzen und orientalische\nKlänge aus der Zeit von al-Andalus (8. – 15- Jhdt.). Ein musikalisches Programm\, in\ndem mittelalterliche Musik frisch und unterhaltsam präsentiert wird. Auf einer Vielzahl\nhistorischer und traditioneller Instrumente zeigen sie den Reichtum mittelalterlicher Musik.
URL:https://www.urholz.de/ausstellung/un-milagro-fruehlingsfest-programm/
LOCATION:Werkstatt Urholz\, Tullastraße 30\, Eppingen\, Baden-Württemberg\, 75031\, Deutschland
ATTACH;FMTTYPE=image/jpeg:https://www.urholz.de/wp-content/uploads/2024/02/JOYOSA-Duo.jpg
ORGANIZER;CN="Urholz":MAILTO:info@urholz.de
END:VEVENT
BEGIN:VEVENT
DTSTART;TZID=Europe/Berlin:20240314T180000
DTEND;TZID=Europe/Berlin:20240314T220000
DTSTAMP:20260421T123457
CREATED:20240227T091847Z
LAST-MODIFIED:20240227T091847Z
UID:2554-1710439200-1710453600@www.urholz.de
SUMMARY:Kulinarischer Klangabend - Frühlingsfest Programm
DESCRIPTION:Donnerstag\, 14. März\nKulinarischer Klangabend – Mehlbeere live 18:00-22:00 Uhr \nFür alle\, die Bäume und Holz lieben…es erwartet Euch ein Erlebnis für alle Sinne!\nDer Abend verbindet die Mehlbeere\, den Baum des Jahres 2024 mit Klanggenuss und Kulinarik. \nUnsere Urholz-Werkstatt wird zum Konzertsaal und zur Künstlerbühne.\nBobbi Fischer (Tastenklänge)\, Frank Weckenmann (Gitarre)\, Werner Acker (Gitarre)\, Kurt Holzkemper (Bass)\nund Ralf Baumgärtner (Percussion) werden uns in phantastische Klangwelten entführen.\nGitarren aus Mehlbeer- und Speierlingholz werden erstmals präsentiert. \nBesondere Holzklangkörper zeigen ihr Resonanzvermögen.\nDas Buffet mit regionalen Köstlichkeiten ist ab 18 Uhr aufgebaut\, die Musik startet gegen 19 Uhr.
URL:https://www.urholz.de/ausstellung/kulinarischer-klangabend-fruehlingsfest-programm/
LOCATION:Werkstatt Urholz\, Tullastraße 30\, Eppingen\, Baden-Württemberg\, 75031\, Deutschland
ATTACH;FMTTYPE=image/jpeg:https://www.urholz.de/wp-content/uploads/2024/02/Mehlbeere__Laengsschnitt.jpg
ORGANIZER;CN="Urholz":MAILTO:info@urholz.de
END:VEVENT
BEGIN:VEVENT
DTSTART;VALUE=DATE:20240314
DTEND;VALUE=DATE:20240317
DTSTAMP:20260421T123457
CREATED:20240227T085527Z
LAST-MODIFIED:20240227T085527Z
UID:2540-1710374400-1710633599@www.urholz.de
SUMMARY:Frühlingsfest
DESCRIPTION:Wir laden Sie herzlich ein zu unserem Frühlingsfest von Donnerstag\, 14. bis Samstag\, 16. März.\nAb 10 Uhr wird unsere Werkstatt zum Fundort unserer neuesten Möbelkreationen.\nWir präsentieren: „Die Wunderwelt des Holzes“.\nEinige besondere Schnäppchen warten auf Holzliebhaber – sind Sie dabei?
URL:https://www.urholz.de/ausstellung/fruehlingsfest/
LOCATION:Werkstatt Urholz\, Tullastraße 30\, Eppingen\, Baden-Württemberg\, 75031\, Deutschland
ATTACH;FMTTYPE=image/jpeg:https://www.urholz.de/wp-content/uploads/2024/02/IMG_1625.jpg
ORGANIZER;CN="Urholz":MAILTO:info@urholz.de
END:VEVENT
BEGIN:VEVENT
DTSTART;VALUE=DATE:20230727
DTEND;VALUE=DATE:20230731
DTSTAMP:20260421T123457
CREATED:20230618T140840Z
LAST-MODIFIED:20230618T142410Z
UID:2523-1690416000-1690761599@www.urholz.de
SUMMARY:Einhaldenfestival
DESCRIPTION:Urlaubstipp: Wer mehr von Gregor Hübner hören will\, sollte sich das Einhaldenfestival (Do.\, 27. – 30.07.) nicht entgehen lassen. \nDort wird er am Sonntag den 30.07. ab 14:30 Uhr mit Berta Epple zu sehen sein – passend zum Sommerferien beginn. Der Einritt ist für alle frei.
URL:https://www.urholz.de/ausstellung/einhaldenfestival/
LOCATION:Einhaldenfestival\, Geratsreute 7\, Fronthofen\, 88273
ATTACH;FMTTYPE=image/png:https://www.urholz.de/wp-content/uploads/2023/06/Bildschirm­foto-2023-06-18-um-16.08.07.png
END:VEVENT
BEGIN:VEVENT
DTSTART;VALUE=DATE:20230706
DTEND;VALUE=DATE:20230710
DTSTAMP:20260421T123457
CREATED:20230618T134815Z
LAST-MODIFIED:20230618T134815Z
UID:2519-1688601600-1688947199@www.urholz.de
SUMMARY:Life's Finest Bretten
DESCRIPTION:Kommen die vorbei zum „Edlen Markt im Park“ im Gut Schwarzerdhof. Sie finden dort Lieblingsstücke\, Faszinierendes\, Nachhaltiges\, Raritäten und Meisterliches. Und uns! \nVom 6. bis 9. Juli 2023. Tickets können Sie hier erwerben!
URL:https://www.urholz.de/ausstellung/lifes-finest-bretten/
LOCATION:Bretten – Gut Schwarzerdhof\, Bretten\, 75015
ATTACH;FMTTYPE=image/png:https://www.urholz.de/wp-content/uploads/2023/06/Bildschirm­foto-2023-06-18-um-15.43.27.png
END:VEVENT
BEGIN:VEVENT
DTSTART;VALUE=DATE:20230331
DTEND;VALUE=DATE:20230403
DTSTAMP:20260421T123457
CREATED:20230226T155636Z
LAST-MODIFIED:20230226T155636Z
UID:2443-1680220800-1680479999@www.urholz.de
SUMMARY:Europäische Tage des Kunsthanderwerks
DESCRIPTION:Kommen Sie von Freitag 31. März bis Sonntag 2. April bei uns in der Werkstatt vorbei und erleben Sie unsere besonderen Sonderangebote! \nZudem findet in diesem Zeitraum unser erstes Genussfestival statt. Lassen Sie sich die tollen Programmpunkte in einzigartiger Umgebung nicht entgehen. Weitere Infos zu den Genusstagen finden Sie hier. \nWir würden uns sehr über Ihren Besuch freuen! \n 
URL:https://www.urholz.de/ausstellung/europaeische-tage-des-kunsthanderwerks/
LOCATION:Urholz\, Tullastraße 30\, Eppingen\, 75031\, Deutschland
ATTACH;FMTTYPE=image/png:https://www.urholz.de/wp-content/uploads/2023/02/ETAK.png
END:VEVENT
END:VCALENDAR