BEGIN:VCALENDAR
VERSION:2.0
PRODID:-//Urholz - Möbel aus heimischen Edelhölzern - ECPv6.0.6.2//NONSGML v1.0//EN
CALSCALE:GREGORIAN
METHOD:PUBLISH
X-ORIGINAL-URL:https://www.urholz.de
X-WR-CALDESC:Veranstaltungen für Urholz - Möbel aus heimischen Edelhölzern
REFRESH-INTERVAL;VALUE=DURATION:PT1H
X-Robots-Tag:noindex
X-PUBLISHED-TTL:PT1H
BEGIN:VTIMEZONE
TZID:Europe/Berlin
BEGIN:DAYLIGHT
TZOFFSETFROM:+0100
TZOFFSETTO:+0200
TZNAME:CEST
DTSTART:20260329T010000
END:DAYLIGHT
BEGIN:STANDARD
TZOFFSETFROM:+0200
TZOFFSETTO:+0100
TZNAME:CET
DTSTART:20261025T010000
END:STANDARD
END:VTIMEZONE
BEGIN:VEVENT
DTSTART;VALUE=DATE:20261025
DTEND;VALUE=DATE:20261026
DTSTAMP:20260421T123147
CREATED:20251025T220036Z
LAST-MODIFIED:20260207T094854Z
UID:2587-1792886400-1792972799@www.urholz.de
SUMMARY:Naturparkmarkt Kürnbach
DESCRIPTION:https://www.naturpark-stromberg-heuchelberg.de/geniessen/naturparkmaerkte
URL:https://www.urholz.de/ausstellung/naturparkmarkt-kuernbach/
ATTACH;FMTTYPE=image/png:https://www.urholz.de/wp-content/uploads/2023/05/Bildschirmfoto-2023-05-13-um-10.12.54.png
END:VEVENT
END:VCALENDAR